BEGIN:VCALENDAR
VERSION:2.0
PRODID:-//Orofino LumberJack Days - ECPv6.15.18//NONSGML v1.0//EN
CALSCALE:GREGORIAN
METHOD:PUBLISH
X-ORIGINAL-URL:https://orofinolumberjackdays.com
X-WR-CALDESC:Events for Orofino LumberJack Days
REFRESH-INTERVAL;VALUE=DURATION:PT1H
X-Robots-Tag:noindex
X-PUBLISHED-TTL:PT1H
BEGIN:VTIMEZONE
TZID:UTC
BEGIN:STANDARD
TZOFFSETFROM:+0000
TZOFFSETTO:+0000
TZNAME:UTC
DTSTART:20220101T000000
END:STANDARD
END:VTIMEZONE
BEGIN:VEVENT
DTSTART;VALUE=DATE:20230914
DTEND;VALUE=DATE:20230918
DTSTAMP:20260425T112954
CREATED:20220115T160014Z
LAST-MODIFIED:20220929T170003Z
UID:81-1694649600-1694995199@orofinolumberjackdays.com
SUMMARY:Carnival
DESCRIPTION:Midway of Fun Carnival!
URL:https://orofinolumberjackdays.com/event/carnival/
LOCATION:Orofino City Park\, Orofino\, ID\, 83544\, United States
CATEGORIES:Main Fair Events
END:VEVENT
BEGIN:VEVENT
DTSTART;TZID=UTC:20230916T100000
DTEND;TZID=UTC:20230916T113000
DTSTAMP:20260425T112954
CREATED:20220117T100048Z
LAST-MODIFIED:20220929T170030Z
UID:85-1694858400-1694863800@orofinolumberjackdays.com
SUMMARY:Main Lumberjack Days Parade
DESCRIPTION:  \n\nMain Lumberjack Days Parade!\n\n  \n 
URL:https://orofinolumberjackdays.com/event/main-lumberjack-parade/
LOCATION:Michigan & Johnson Ave.\, Orofino\, ID\, 83544\, United States
CATEGORIES:Main Fair Events
END:VEVENT
BEGIN:VEVENT
DTSTART;TZID=UTC:20230916T123000
DTEND;TZID=UTC:20230916T143000
DTSTAMP:20260425T112954
CREATED:20190114T165721Z
LAST-MODIFIED:20220929T170149Z
UID:86-1694867400-1694874600@orofinolumberjackdays.com
SUMMARY:OCI Auction
DESCRIPTION:  \n\nLive Auction!\n\n  \n 
URL:https://orofinolumberjackdays.com/event/oci-fundraising-auction/
LOCATION:Orofino City Park ~ Rodeo Grounds\, Orofino\, ID\, 83544\, United States
CATEGORIES:Main Fair Events
END:VEVENT
BEGIN:VEVENT
DTSTART;TZID=UTC:20230916T183000
DTEND;TZID=UTC:20230916T203000
DTSTAMP:20260425T112954
CREATED:20190114T165935Z
LAST-MODIFIED:20220929T170126Z
UID:90-1694889000-1694896200@orofinolumberjackdays.com
SUMMARY:Horse Pull Competition
DESCRIPTION:  \n\nHorse Pull\n\n 
URL:https://orofinolumberjackdays.com/event/horse-pull-compeition/
LOCATION:Orofino City Park ~ Rodeo Grounds\, Orofino\, ID\, 83544\, United States
CATEGORIES:Main Fair Events
END:VEVENT
BEGIN:VEVENT
DTSTART;TZID=UTC:20230917T100000
DTEND;TZID=UTC:20230917T120000
DTSTAMP:20260425T112954
CREATED:20190115T170033Z
LAST-MODIFIED:20220929T170103Z
UID:91-1694944800-1694952000@orofinolumberjackdays.com
SUMMARY:OCI Log Show & Contest
DESCRIPTION:Log Show & Contest!
URL:https://orofinolumberjackdays.com/event/oci-log-show-contest/
LOCATION:Orofino City Park ~ Rodeo Grounds\, Orofino\, ID\, 83544\, United States
CATEGORIES:Main Fair Events
END:VEVENT
BEGIN:VEVENT
DTSTART;VALUE=DATE:20260917
DTEND;VALUE=DATE:20260921
DTSTAMP:20260425T112954
CREATED:20240404T182549Z
LAST-MODIFIED:20260326T220047Z
UID:687-1789603200-1789948799@orofinolumberjackdays.com
SUMMARY:2026 Carnival
DESCRIPTION:Midway of Fun Carnival!
URL:https://orofinolumberjackdays.com/event/2026-carnival/
LOCATION:Orofino City Park\, Orofino\, ID\, 83544\, United States
CATEGORIES:Main Fair Events
END:VEVENT
BEGIN:VEVENT
DTSTART;TZID=UTC:20260918T123000
DTEND;TZID=UTC:20260918T170000
DTSTAMP:20260425T112954
CREATED:20240404T182342Z
LAST-MODIFIED:20260326T220018Z
UID:683-1789734600-1789750800@orofinolumberjackdays.com
SUMMARY:2026 OCI Auction
DESCRIPTION:  \n\nLive Auction!\n\n  \n 
URL:https://orofinolumberjackdays.com/event/2026-oci-auction/
LOCATION:Orofino City Park ~ Rodeo Grounds\, Orofino\, ID\, 83544\, United States
CATEGORIES:Main Fair Events
END:VEVENT
BEGIN:VEVENT
DTSTART;TZID=UTC:20260919T100000
DTEND;TZID=UTC:20260919T113000
DTSTAMP:20260425T112954
CREATED:20240404T182431Z
LAST-MODIFIED:20260326T220120Z
UID:685-1789812000-1789817400@orofinolumberjackdays.com
SUMMARY:2026 Main Lumberjack Days Parade
DESCRIPTION:  \n\nMain Lumberjack Days Parade!\n\n  \n 
URL:https://orofinolumberjackdays.com/event/2026-main-lumberjack-days-parade/
LOCATION:Michigan & Johnson Ave.\, Orofino\, ID\, 83544\, United States
CATEGORIES:Main Fair Events
END:VEVENT
BEGIN:VEVENT
DTSTART;TZID=UTC:20260919T183000
DTEND;TZID=UTC:20260919T220000
DTSTAMP:20260425T112954
CREATED:20240404T182305Z
LAST-MODIFIED:20260326T215936Z
UID:681-1789842600-1789855200@orofinolumberjackdays.com
SUMMARY:2026 Horse Pull Competition
DESCRIPTION:  \n\nHorse Pull\n\n 
URL:https://orofinolumberjackdays.com/event/2026-horse-pull-competition/
LOCATION:Orofino City Park ~ Rodeo Grounds\, Orofino\, ID\, 83544\, United States
CATEGORIES:Main Fair Events
END:VEVENT
BEGIN:VEVENT
DTSTART;TZID=UTC:20260920T100000
DTEND;TZID=UTC:20260920T170000
DTSTAMP:20260425T112954
CREATED:20240404T182231Z
LAST-MODIFIED:20260326T215909Z
UID:679-1789898400-1789923600@orofinolumberjackdays.com
SUMMARY:2026 OCI Log Show & Contest
DESCRIPTION:Log Show & Contest!
URL:https://orofinolumberjackdays.com/event/2026-oci-log-show-contest/
LOCATION:Orofino City Park ~ Rodeo Grounds\, Orofino\, ID\, 83544\, United States
CATEGORIES:Main Fair Events
END:VEVENT
END:VCALENDAR