BEGIN:VCALENDAR
VERSION:2.0
PRODID:-//Orofino LumberJack Days - ECPv6.15.18//NONSGML v1.0//EN
CALSCALE:GREGORIAN
METHOD:PUBLISH
X-ORIGINAL-URL:https://orofinolumberjackdays.com
X-WR-CALDESC:Events for Orofino LumberJack Days
REFRESH-INTERVAL;VALUE=DURATION:PT1H
X-Robots-Tag:noindex
X-PUBLISHED-TTL:PT1H
BEGIN:VTIMEZONE
TZID:UTC
BEGIN:STANDARD
TZOFFSETFROM:+0000
TZOFFSETTO:+0000
TZNAME:UTC
DTSTART:20220101T000000
END:STANDARD
END:VTIMEZONE
BEGIN:VEVENT
DTSTART;TZID=UTC:20230726T180000
DTEND;TZID=UTC:20230726T200000
DTSTAMP:20260424T235902
CREATED:20230221T222952Z
LAST-MODIFIED:20230221T223008Z
UID:601-1690394400-1690401600@orofinolumberjackdays.com
SUMMARY:Monthly Planning Meeting
DESCRIPTION:All Regular Meetings are the 4th Wednesday of the month @ the White Pine Building @ 6 PM starting in April and running through the week after the Fair in September!. Everyone who would like to help is welcome… but know that we do sometimes have to change our meeting dates… so please contact us directly if you are unsure of dates and times!
URL:https://orofinolumberjackdays.com/event/monthly-planning-meeting-copy-2/
LOCATION:White Pine Building\, Orofino\, ID\, 83544\, United States
CATEGORIES:Monthly Planning Meetings
END:VEVENT
END:VCALENDAR